BEGIN:VCALENDAR
VERSION:2.0
PRODID:-//ExpressionEngine Easy iCalendar plugin//NONSGML v2.0.0//EN
X-WR-TIMEZONE:America/New_York
X-WR-CALNAME:Upcoming Auctions
BEGIN:VEVENT
UID:160686
DTSTAMP:20260502T120000
DTSTART:20260502T120000
DTEND:20260511T190000
SUMMARY:May Cars 2026
LOCATION:210 Sawyer Ave.\, Tonawanda\, NY 14150\, US
DESCRIPTION:Monthly Vehicle Auction- Click on Each Lot to View a Video\, 
 Photos\, & Detailed Description!
URL:https://www.cashauction.com/auctions/detail/bw160686
SEQUENCE:1
END:VEVENT
END:VCALENDAR