BEGIN:VCALENDAR
VERSION:2.0
PRODID:-//ExpressionEngine Easy iCalendar plugin//NONSGML v2.0.0//EN
X-WR-TIMEZONE:America/New_York
X-WR-CALNAME:Upcoming Auctions
BEGIN:VEVENT
UID:160685
DTSTAMP:20260504T170000
DTSTART:20260504T170000
DTEND:20260510T190000
SUMMARY:Amazon 5.10.26
LOCATION:210 Sawyer Ave\, Tonawanda\, NY 14150\, US
DESCRIPTION:STRICT REMOVAL-  Wednesday\, 5/13 from 9am to 4pm at 210 S
 awyer Ave. Tonawanda\, NY 14150.
URL:https://www.cashauction.com/auctions/detail/bw160685
SEQUENCE:1
END:VEVENT
END:VCALENDAR